Workbook

Sheet Sheet1
A1: FORM PENGISIAN USAHA EKONOMI KREATIF
A3: NO. | B3: NAMA USAHA | C3: NAMA PEMILIK USAHA | D3: ALAMAT LENGKAP USAHA | E3: KEL/DESA | F3: KECAMATAN | G3: KOTA/KAB | H3: NO. TELP/HP | I3: EMAIL | J3: SUB SEKTOR EKRAF UTAMA | K3: TAHUN MULAI BEROPERASI
A4: 1
A5: 2
A6: 3
A7: 4
A8: 5
A9: 6
A10: 7
A11: 8
A12: 9
A13: dst..
I15: KAB/KOTA, APRIL 2023
I16: KEPALA OPD
I20: NAMA
I21: NIP.

Sheet Sheet2
A1: NAMA USAHA | B1: NAMA PEMILIK USAHA | C1: ALAMAT LENGKAP USAHA | D1: KEL/DESA | E1: KECAMATAN | F1: KOTA/KAB | G1: NO. TELP/HP | H1: EMAIL | I1: SUB SEKTOR EKRAF UTAMA | J1: TAHUN MULAI BEROPERASI
A2: BATIK HADIPRIYANTO | B2: SLAMET HADIPRIYANTO | C2: JL. MRUYUNG | D2: SUDAGARAN | E2: BANYUMAS | F2: BANYUMAS | G2: 081542947146 | I2: KRIYA | J2: 1970
A3: BATIK R SOKARAJA | B3: HERU SANTOSO | C3: JL. PESAREAN KEBUTUH | D3: SOKARAJA KULON | E3: SOKARAJA | F3: BANYUMAS | G3: 085799226655 | I3: KRIYA | J3: 1970
A4: ZEE COLLECTION | B4: RIENE MAHARDIANI | C4: JL. CILONGOK KESEGERAN | D4: CILONGOK | E4: CILONGOK | F4: BANYUMAS | G4: 081802666999 | I4: FESYEN | J4: 2018
A5: KAMPING NOPIA MINO | B5: AGUS SILO WITRASNO | C5: JL. JAYA SIRAYU | D5: PEKUNDEN | E5: BANYUMAS | F5: BANYUMAS | G5: 08112600185 | I5: KULINER | J5: 2018
A6: Asap Merapi | B6: Lisyanti | C6: Ngaglik | D6: Samiran | E6: Selo | F6: BOYOLALI | G6: 088216049302 | I6: Kuliner
A7: DTW Sanjaya | B7: Cahyo Yusuf R | C7: Samiran | D7: Samiran | E7: Selo | F7: BOYOLALI | G7: 085786633500 | I7: Arsitektur
A8: Purwanto | B8: Pengelola Kusuma Pool & Resto | C8: Sukorame | D8: Sukorame | E8: Musuk | F8: BOYOLALI | G8: 08562675300 | I8: Arsitektur
A9: OASE ART | B9: Supriyoto | C9: Kragilan | D9: Kragilan | E9: Mojosongo | F9: BOYOLALI | G9: 081390989598 | I9: Arsitektur
A10: UMKM Ilyas Dekorasi | B10: Lasmini | C10: Jeruk | D10: Jeruk | E10: Selo | F10: BOYOLALI | G10: 085640066721 | I10: Desain Interior
A11: Bank Sampah Permata | B11: Abdur Rokhman Isnaini | C11: Madu Mulyo | D11: Pulisen | E11: Boyolali | F11: BOYOLALI | G11: 085702427974 | I11: Desain produk
A12: Shoebar | B12: Bimo Setiawan | C12: Jl Merapi | D12: Pulisen | E12: Boyolali | F12: BOYOLALI | G12: 089646928905 | I12: Desain produk
A13: Bank Sampah | B13: Sukadi | C13: Madumulyo | D13: Pulisen | E13: Boyolali | F13: BOYOLALI | G13: 85600655598 | I13: Desain Produk
A14: Umi Patmiyati | B14: Umi Patmiyati | C14: Banyudono | D14: Banyudono | E14: Banyudono | F14: BOYOLALI | G14: 08574323 2054 | I14: Desain produk
A15: Sha - Sha Collection | B15: Nur Indrati | C15: Jl Perintis Kemerdekaan | D15: Pulisen | E15: Boyolali | F15: BOYOLALI | G15: 081931715969 | I15: Fashion
A16: Amanah | B16: Sriyadi | C16: Pulisen | D16: Pulisen | E16: Boyolali | F16: BOYOLALI | G16: 081329380882 | I16: Fashion
A17: Fashion | B17: Dwi Anna Solichah | C17: Candi | D17: Candi | E17: Ampel | F17: BOYOLALI | G17: 085642311119 | I17: Fashion
A18: Ade Mila Almi Astuti | B18: Ade Mila Almi Astuti | C18: Ringinlarik | D18: Musuk | E18: Musuk | F18: BOYOLALI | G18: 082131768202 | I18: Fashion
A19: Haryati | B19: Haryati | C19: Pulisen | D19: Pulisen | E19: Boyolali | F19: BOYOLALI | G19: 0857 0080 0585 | I19: Fashion
A20: Nila Wibowo Putri Permatasari | B20: Nila Wibowo Putri Permatasari | C20: Sukabumi | D20: Sukabumi | E20: Cepogo | F20: BOYOLALI | G20: 085712334163 | I20: Fashion
A21: MOI | B21: Reifatma Nuraviani | C21: Pulisen | D21: Pulisen | E21: Boyolali | F21: BOYOLALI | G21: 0818 1012 86 | I21: Fashion
A22: UMKM Multimedia Desain Grafis | B22: Lilik Kurniawan | C22: Ngaru-aru | D22: Ngaru-aru | E22: Banyudono | F22: BOYOLALI | G22: 089503800222 | I22: Film
A23: D'Asmo | B23: Denny Sugiharto | C23: Pulisen | D23: Pulisen | E23: Boyolali | F23: BOYOLALI | G23: 081315222769 | I23: Fotografi
A24: Fattah Nurdiansah | B24: Fattah Nurdiansah | C24: Ngaru-aru | D24: Ngaru-aru | E24: Banyudono | F24: BOYOLALI | G24: 0895413786104 | I24: Fotografi
A25: Pande Tembaga | B25: Daryono | C25: Kupoh | D25: Cepogo | E25: Cepogo | F25: BOYOLALI | G25: 085700097698 | I25: Kriya
... A106: Ratna Pertiwi | B106: Ratna Pertiwi | C106: Banaran | D106: Banaran | E106: Boyolali | F106: BOYOLALI | G106: 0815 6776 6043 | I106: Seni Rupa
A107: Sangkanparan Visual Multimedia | B107: Insan Indah Pribadi | C107: Jl. Nusa Indah, Tritih Lor | D107: Tritih Lor | E107: Jeruklegi | F107: CILACAP | G107: 08121563110 / | H107: insanindah@gmail.com | I107: Multimedia, Film, Musik & Seni Pertunjukan
A108: Boss One / Suwanto Guitar | B108: Suwanto | C108: Desa Karangsari, | D108: Karangsari | E108: Adipala | F108: CILACAP | G108: 082138975045 / | I108: Kriya, Seni Rupa
A109: Mustav & Co | B109: Syarifudin | C109: Kawunganten | E109: Kawunganten | F109: CILACAP | G109: +62 895-2773-7311 | H109: mustav.andco@gmail.com | I109: Kriya, Fashion
A110: Pembuat Wayang | B110: Darman | C110: Desa Tritih Lor | D110: Tritih Lor | E110: Jeruklegi | F110: CILACAP | G110: +62 856-4190-4308 | I110: Kriya, Seni rupa
A111: Kincir Bambu Kolam Ikan | B111: Misbah Chalimuzain | C111: Jl. Toba, Mujur Lor | D111: Mujur Lor | E111: Kroya | F111: CILACAP | G111: 085747733840 / 083848951912 | H111: IG : @amanah_kincir_bambu | I111: Kriya
A112: Batik Ecoprint | B112: Supinah | C112: Pasemuan, Adipala | D112: Karanganyar | E112: Adipala | F112: CILACAP | G112: +62 897-6274-561 | I112: Fashion, Kriya
A113: Luxor / Kerajinan Kayu | B113: Mastur Zubaedi | C113: Sumingkir RT 5/3 | D113: Sumingkir | E113: Jeruklegi | F113: CILACAP | I113: Kriya
A114: Mool Leather | B114: Amil Maulana | C114: Panisihan Maos Lor | D114: Panisihan | E114: Maos | F114: CILACAP | G114: 085759250900 | H114: IG : @mool_leather | I114: Kriya, Fashion
A115: Batik Kutawaru | B115: Titing | C115: Jl. Nusajaya Kutawaru | D115: Kutawaru | E115: Cilacap Tengah | F115: CILACAP | G115: 0857-4098-5301 | H115: IG : @batik_mangrove_kutawaru | I115: Fashion, Kriya
A116: Rumah Rajut Alya | B116: Herty | C116: Jl. Raya Menganti Margasari | D116: Margasari | E116: Sidareja | F116: CILACAP | H116: IG : @herty_rajute | I116: Fashion, Kriya
A117: Gallery Kulit Telur | B117: Agus Salim | C117: Panjatan Kawunganten Lor | D117: Panjatan | E117: Kawunganten | F117: CILACAP | G117: 0896-3900-8617 | H117: IG : @lukisan_telur | I117: Kriya, Seni Rupa
A118: Mitra Mandiri Cocofiber | B118: Mamang Top | C118: Jl. Wijaya Kusuma Purwasari | D118: Purwasari | E118: Wanareja | F118: CILACAP | G118: 0852-9290-6356 | H118: IG : @mamang.top | I118: Kriya, Seni RUpa
A119: Batik Maos Rajasamas | B119: Tonik Sudarmaji | C119: Jl. Penatusan Timur Maos Kidul | D119: Maos Kidul | E119: Maos | F119: CILACAP | G119: 0822-2133-3785 | H119: IG : @batik_maos_rajasamas | I119: Produksi Batik
A120: Mikon Craft | B120: Hidayat Saputra | C120: Jl. Bawal Sikampuh Kroya | D120: Sikampuh | E120: Kroya | F120: CILACAP | H120: IG : @mikon_craft | I120: Kerajinan Koran Gulung
A121: Olivin Aluminium | B121: Olivin | C121: Jl. Rinjani 76 | D121: Sidanegara | E121: Cilacap Tengah | F121: CILACAP | I121: Kriya, Seni Rupa
A122: Wijaya Video Shooting | B122: Noto Wijoyo | C122: Pasemuan Adipala | D122: Adiraja | E122: Adipala | F122: CILACAP | I122: Film, Video
A123: Lumpia Tuna Dapur Eniku | B123: Eni Kuswati | C123: Jl. Badranaya72A RT 03/07 Tritih Wetan | D123: Tritih Wetan | E123: Jeruklegi | F123: CILACAP | G123: 085647823206 | H123: IG : Enik.25 | I123: Kuliner
A124: Jajan Tradisional | B124: Suwaryan | C124: Jl. Wahidin Rt 002/008 Kel.Sidakaya | D124: Sidakaya | E124: Cilacap Selatan | F124: CILACAP | G124: +62 878-3727-2425 | H124: FB : suwaryan.ryan | I124: Kuliner
A125: Ganyong & Irut Bubur Instan | B125: Budi Pratomo | C125: Perumahan Puri Mujur No. 258 | D125: Mujur | E125: Kroya | F125: CILACAP | G125: 082138153552 | I125: Kuliner
A126: Peyek, Kebab & Frozen Food | B126: Deni Herlina | C126: Jl Sadang 02/08 Gumilir | D126: Gumilir | E126: Cilacap Utara | F126: CILACAP | G126: 081542846050 | H126: FB : Deni Herlina | I126: Kuliner
A127: Padha Kopi | B127: Didi Teguh Pratomo | C127: jl. Jend. Sudirman no 144 Rt.13/04 Jepara Wetan Kec. Binangun | D127: Jepara Wetan | E127: Binangun | F127: CILACAP | G127: 085875158033 | H127: IG : momo.bae | I127: Kuliner
A128: Banyu Clothing | B128: Asep Tidyanto | C128: Perum BKD Blok 20 C-117 Kebonmanis | D128: Kebonmanis | E128: Cilacp Utara | F128: CILACAP | G128: 082134179240 | I128: Kriya, Fashion
A129: Kayu Jati Belanda | B129: Amin Syafaat | C129: Salebu Majenang | D129: Majenang | E129: Majenang | F129: CILACAP | G129: 083102533462 | I129: Krya, Seni rupa
A130: Gamis Fashion | B130: Nina Sri Rahayu | C130: Gumiir Indah Blok 21/253 Kebonmanis | D130: Kebonmanis | E130: Cilacap Utara | F130: CILACAP | H130: Nina Sri Rahayu | I130: Fashion
A131: Griya Zamira Butik | B131: Erna Juliana, S.M | C131: Griya Zamira JL.Wangkal no 79 Gumilir | D131: Gumilir | E131: Cilacap Utara | F131: CILACAP | G131: 0816698846 | H131: IG : Zamira Griya Cantik | I131: Fashion
A132: Tata Rupa Taman | B132: Arif Budiman | C132: Jl. Damar RT 4 RW 10 Karangtalun | D132: Karangtalun | E132: Cilacap Utara | F132: CILACAP | G132: 0895385174274 | I132: Kriya, Seni iRupa
A133: Pelukis Pulpen | B133: Dedy Hartanto | C133: Jl. Kluwih, CIlacap | D133: Tambakreja | E133: Cilacap Selatan | F133: CILACAP | G133: 085743042084 | I133: Seni Rupa
A134: Pelukis Kopi | B134: Arif Hartanto | C134: Jl. Sukun No. 16 RT/RW 001/006 | D134: Tambakreja | E134: Adipala | F134: CILACAP | G134: 083863893555 | I134: Seni Rupa
A135: Musisi | B135: Riski Adi Susanto | C135: JL. Tambaksari No37 RT04 RW11 Kel.donan | D135: Donan | E135: Cilacap Tengah | F135: CILACAP | G135: 082253959398 | I135: Musik, Seni Pertunjukan
A136: Designer Interior | B136: Aditya Wahyudin | C136: Jl. Lingkar Timur, Menganti Cilacap | D136: Menganti | E136: Kesugihan | F136: CILACAP | G136: 085729579962 | H136: @aditya Wahyudin | I136: Desain Interior
A137: Konsultan Design | B137: Wachyu Fitri Anggraini, S.Pd.I., M.M | C137: Jl. Sukun No.12, Karangkandri Cilacap | D137: Karangkandri | E137: Kesugihan | F137: CILACAP | G137: 085 868 316 332 | H137: IG @wachyu_anggraini | I137: Desain Interior
A138: Filmaker | B138: Nur Hidayatul Fitria | C138: Jl Raya Cilongkrang Barat Rt/Rw 01/01 | D138: Cilongkrang | E138: Wanareja | F138: CILACAP | G138: 085716474900 | H138: IG : @fitriinyong | I138: Film, Video
A139: Pengembang / IT | B139: Junardi | C139: Pakuaji, Cilpoang, Majeenang | D139: Cilopadang | E139: Majenang | F139: CILACAP | G139: 082125782775 | I139: Alikasi, Develop
A140: KremesQu | B140: Farih Ramadhani | C140: Taman Setia Budi | D140: Kebonmanis | E140: Cilacap Utara | F140: CILACAP | G140: 085609561700 | H140: faryrachmadani05@gmail.com | I140: Kuliner
A141: Marvel Joys | B141: Wanto | C141: JL Raya Jeruk legi | D141: Jambusari | E141: Jeruklegi | F141: CILACAP | G141: 081220977855 | H141: marveljoys21@gmail.com | I141: Kuliner
A142: Kerupuk Jengkol Babeh Ibnu | B142: Ibnu Hasan Qosim | C142: jl Sembodro | D142: Gumilir | E142: Cilacap Utara | F142: CILACAP | G142: 082241148281 | H142: ibnu.hasan1970@gmail.com | I142: Kuliner
A143: Mie lidi dan makaroni RAVIKA | B143: Eka Riyanti | C143: JL Lawu Sidanegara | D143: Sidanegara | E143: Cilacap Tengah | F143: CILACAP | G143: 085869474579 | H143: ekariyanti923@gmail.com | I143: Kuliner
A144: Stik sukun Eka Rasa | B144: Rasno | C144: JL Pete Tritih K | D144: Tritih Kulon | E144: Cilacap Utara | F144: CILACAP | G144: 085865237292 | I144: Kuliner
A145: Stik daun kelor | B145: Acih Irani | C145: Mertasinga | D145: Mertasinga | E145: Cilacap Utara | F145: CILACAP | G145: 081391631114 | H145: marveljoys21@gmail.com | I145: Kuliner
A146: BAMBI | B146: Bambwi Rumiyati | C146: Jl. Sunan Kalijaga 03/03 Kadilangu Demak | D146: Kadilangu | E146: Demak | F146: DEMAK | G146: 081325618055 | H146: bambwirumiyati@gmail.com | I146: KULINER | J146: 2019
A147: JAMU CORO WALI SONGO | B147: Ahmad Solikin | C147: Perum Griya Bhakti Praja Blok A 28 Rt 01 Rw 07 | D147: Mangunjiwan | E147: Demak | F147: DEMAK | G147: 0895413660161 | H147: achmad19sholikhin@gmail.com | I147: KULINER | J147: 2020
A148: BATIK NATRA | B148: Yustika Yuliarti | C148: Jasmine Park J2 No 11 Plamongan Indah | D148: Batursari | E148: Mranggen | F148: DEMAK | G148: 085641181968 | H148: natrabatik@gmail.com | I148: FASHION | J148: 2019
A149: TYAS CREATION | B149: Sumartiningsih | C149: Pondok Patiunus no 46 Rt 04 Rw 07 | D149: Bintoro | E149: Demak | F149: DEMAK | G149: 085641181968 | H149: buning.251271@gmail.com | I149: KRIYA | J149: 2018
A150: BATIK KARANGMLATI | B150: Dwi Marfiana | C150: Ds.Karangmlati | D150: Ds.karangmlati | E150: Demak | F150: DEMAK | G150: 081326186882 | H150: dwimarfiana@gmail.com | I150: KRIYA | J150: 2006
A151: HEN'S MULTY ART | B151: Agustina Marhaeni Rahayu | C151: jl. Pucang Adi XII no 4 | D151: Batursari | E151: Mranggen | F151: DEMAK | G151: 081567676561 | H151: marhaenia48@gmail.com | I151: KRIYA | J151: 2015
A152: ANTIQUE ART | B152: Ali Mahmudi | C152: Cangkring rt 04 rw 02 | D152: Mulyorejo | E152: Demak | F152: DEMAK | G152: 081390353000 | H152: aliantique89@gmail.contoh | I152: KRIYA | J152: 2003
A153: ZEM SILVER | B153: Abdul ershad Salam | C153: Perum Griya Bhakti Praja Blok e no 17 | D153: Mangunjiwan | E153: Demak | F153: DEMAK | G153: 081289168885 | H153: zemsilver@gmail.com | I153: KRIYA | J153: 2015
A154: sijarwo.serbasingkong | B154: Sudrajat | C154: Pitran | D154: Wonorejo | E154: Jatiyoso | F154: KARANGANYAR | G154: 081393694545 | H154: sijarwo.serbasingkong@gmail.com | I154: Kuliner | J154: 2014
A155: Wisata Edukasi Ampyang Jawa | B155: Alif Arna Danan Abdul Faathir | C155: Jl.Patimura no 02 | D155: Bejen | E155: Karanganyar | F155: KARANGANYAR | G155: 082137623624 | H155: ampyangjawa@gmail.com | I155: Kuliner | J155: 2016
A156: Gethuk Take | B156: Edy Susanto | C156: Ngunut | D156: Tawangmangu | E156: Tawangmangu | F156: KARANGANYAR | G156: 081391899928 | H156: Gethuktake@gmail.com | I156: Kuliner | J156: 2016
A157: CEKEWER'S | B157: Marno | C157: Genengan | D157: Sepanjang | E157: Tawangmangu | F157: KARANGANYAR | G157: 085869565690 | H157: marnotw42590@gmail.com | I157: Kuliner | J157: 2019
... A178: Saga Craft | B178: Hadi Prayitno | C178: Susukan RT 02 RW 02, Tegalarum, Borobudur, Magelang | D178: Tegalarum | E178: Borobudur | F178: MAGELANG | G178: 087834111769 | H178: www.craftsagaborobudur@hmail.com | I178: Kriya | J178: 2016
A179: Pak Wo Craft | B179: Ahmad Nasikhin | C179: Dusun Bojong, Desa Giyanti, Candimulyo, Magelang | D179: Giyanti | E179: Candimulyo | F179: MAGELANG | G179: 085743778777 | I179: Kriya | J179: 2012
A180: Sanggar Rejeki | B180: Tri Agung Setyawan | C180: Selo Bentar, Banyudono, Dukun, Muntilan, Magelang | D180: Dukun | E180: Muntilan | F180: MAGELANG | G180: 088216658760 | H180: cobeksanggarrejeki.id | I180: Kriya | J180: 2016
A181: Weong Edukasi | B181: Khomarudin | C181: Gunungono, Banyubiru, Dukun, Muntilan, Magelang | D181: Dukun | E181: Muntilan | F181: MAGELANG | G181: 08383475631 | H181: weongedukasi | I181: Wisata Edukasi
A182: Kursi Donat | B182: Wahono | C182: Klatak RT 05 RW 05, Banyudono, Dukun, Magelang | D182: Dukun | E182: Dukun | F182: MAGELANG | G182: 081915462148 | H182: kursidonat@gmail.com | I182: Kriya
A183: D-Umay | B183: Umi Maskanah | C183: Babakan RT o5 RW 01, Madugondo, Kajoran, Magelang | D183: Madugondo | E183: Kajoran | F183: MAGELANG | G183: 081329167890 | H183: umay2906@gmail.com | I183: Kuliner | J183: 2018
A184: Kaliangkrik Java Coffee | B184: Rinto | C184: Pengkol, Ngawonggo, Kaliangkrik, Magelang | D184: Ngawonggo | E184: Kaliangkrik | F184: MAGELANG | G184: 085722959570 | H184: kaliangkrik_javacoffee | I184: Kuliner | J184: 2012
A185: Redlane | B185: JB Moordiana | C185: Kalipan, No.1, Girirejo, Kaliangkrik, Magelang | D185: Girirejo | E185: Kaliangkrik | F185: MAGELANG | G185: 0811189236 | H185: redlane.indonesia | I185: Desain Grafis dan Fotografi
A186: Batik Canthing Mendut | B186: Afiat Noorsiwi | C186: RT 03 RW 02, Mungkid, Magelang | D186: Mungkid | E186: Mungkid | F186: MAGELANG | G186: 081328075280 | H186: nursiwiafiat@gmail.com | I186: Fesyen | J186: 2013
A187: Warung Seni Listyo | B187: Listyo Hastuti | C187: Jln. Manyar 310 Perumahan Griya Rejo Indah, Sumberrejo, Mertoyduan, Mgl | D187: Sumberrejo | E187: Mertoyudan | F187: MAGELANG | G187: 081578634186 | H187: hastutilistyo37@gmail.com | I187: Kriya | J187: 1999
A188: Nichoa Chocolate | B188: Andri Setyowati | C188: Perum Bumi Nusantara 2, Blok A18, Mertoyudan, Magelang | D188: Mertoyudan | E188: Mertoyudan | F188: MAGELANG | G188: 081215101141 | H188: chocholate@nichoa.id | I188: Kuliner | J188: 2019
A189: Faro Leather Craft | B189: Roza Kharisma | C189: Giyasan, RT 01 RW 06, Bumirejo, Mungkid, Magelang | D189: Bumirejo | E189: Mungkid | F189: MAGELANG | G189: 085878764573 | H189: faro_leathercraft | I189: Kriya | J189: 2016
A190: Alullabee Edutoys | B190: Fela Saufa | C190: Santan, Progowati, Mendut, Magelang | D190: Mendut | E190: Mungkid | F190: MAGELANG | G190: 081227646946 | H190: alullabee_edutoys | I190: Pengembang Permainan | J190: 2016
A191: Corak Alam | B191: Ita Sarifah | C191: Paremono, RT 05 RW 04, Mungkid, Magelang | D191: Paremono | E191: Mungkid | F191: MAGELANG | G191: 082135106712 | H191: corakalam.ecoprint@gmail.com | I191: Fesyen | J191: 2000
A192: Taralakshita Art & Craft | B192: Yoga Budi Watoro | C192: Sidoharjo, Tamanagung, Muntilan, Magelang | D192: Tamanagung | E192: Muntilan | F192: MAGELANG | G192: 08156857257 | H192: Taralakshita Art & Craft | I192: Kriya
A193: Saniyya Butik | B193: Hayatini Siswaningrum | C193: Dukuhan, Gunungpring, Muntilan | D193: Gunungpring | E193: Muntilan | F193: MAGELANG | G193: 087855999298 | H193: batiksaniyya@gmail.com | I193: Fesyen | J193: 2007
A194: Batik Cap Tirto | B194: Nurwiyati | C194: Tirto, Salam, Magelang | D194: Salam | E194: Salam | F194: MAGELANG | G194: 081328696355 | I194: Fesyen
A195: Dadi Sumber | B195: Yustinus Agus | C195: Dusun Krandan, RT 5 RW 8, Kebonrejo, Magelang | D195: Kebonrejo | E195: Salaman | F195: MAGELANG | G195: 081246611846 | I195: Desain Interior/Eksterior | J195: 1995
A196: Kurma Coklat | B196: Betty Puji A | C196: Dsn Jumoyo, Salam, Muntilan, Magelang | D196: Salam | E196: Muntilan | F196: MAGELANG | G196: 08174113674 | H196: Rumah Kurcok | I196: Kuliner | J196: 2014
A197: Permen Tape | B197: Isni Nurvia | C197: Kuncen RT 04 RW 08, Dusun Seloboro, Muntilan | D197: Muntilan | E197: Muntilan | F197: MAGELANG | G197: 0877191831187 | H197: Permen Tape SJ | I197: Kuliner
A198: BM Furniture Art | B198: Heri Mujiyanto | C198: Bulu Kidul, RT 03 RW 01, Kel. Podosoko, Sawangan, Mgl | D198: Podosoko | E198: Sawangan | F198: MAGELANG | G198: 082261875827 | H198: heriyanto@gmail.com | I198: Kriya | J198: 2000
A199: Indah Jaya Merpati | B199: Indah Novita Febriyana | C199: Dsn. Malangan RT 30 RW 13, Payaman, Secang, Magelang | D199: Payamab | E199: Secang | F199: MAGELANG | G199: 088239675120 | I199: Pengembang Permainan
A200: Batik Sinar Gemilang | B200: Sumarsih | C200: Jl. Soekarno Hatta, No.63, Sawitan, Magelang | D200: Sawitan | E200: Mungkid | F200: MAGELANG | G200: 081578526558 | H200: ibumarsihsigit62@gmail.com | I200: Fesyen | J200: 2010
...

Sheet Sheet3
A1: NO | B1: KOTA/KAB | C1: JUMLAH | E1: =COUNTIF(C2:C36, "0") -> 2
A2: 1 | B2: BANJARNEGARA | C2: =COUNTIF(Sheet2!F:F, Sheet3!B2) -> 29
A3: 2 | B3: BANYUMAS | C3: =COUNTIF(Sheet2!F:F, Sheet3!B3) -> 4
A4: 3 | B4: BATANG | C4: =COUNTIF(Sheet2!F:F, Sheet3!B4) -> 40
A5: 4 | B5: BLORA | C5: =COUNTIF(Sheet2!F:F, Sheet3!B5) -> 80
A6: 5 | B6: BOYOLALI | C6: =COUNTIF(Sheet2!F:F, Sheet3!B6) -> 101
A7: 6 | B7: BREBES | C7: =COUNTIF(Sheet2!F:F, Sheet3!B7) -> 2
A8: 7 | B8: CILACAP | C8: =COUNTIF(Sheet2!F:F, Sheet3!B8) -> 39
A9: 8 | B9: DEMAK | C9: =COUNTIF(Sheet2!F:F, Sheet3!B9) -> 8
A10: 9 | B10: GROBOGAN | C10: =COUNTIF(Sheet2!F:F, Sheet3!B10) -> 61
A11: 10 | B11: JEPARA | C11: =COUNTIF(Sheet2!F:F, Sheet3!B11) -> 0
A12: 11 | B12: KARANGANYAR | C12: =COUNTIF(Sheet2!F:F, Sheet3!B12) -> 20
A13: 12 | B13: KEBUMEN | C13: =COUNTIF(Sheet2!F:F, Sheet3!B13) -> 13
... A36: 35 | B36: WONOSOBO | C36: =COUNTIF(Sheet2!F:F, Sheet3!B36) -> 0
A37: TOTAL | C37: =SUM(C2:C36) -> 2645
