Workbook

Sheet Sheet1
A1: FORM PENGISIAN USAHA EKONOMI KREATIF
A3: NO. | B3: NAMA USAHA | C3: NAMA PEMILIK USAHA | D3: ALAMAT LENGKAP USAHA | E3: KEL/DESA | F3: KECAMATAN | G3: KOTA/KAB | H3: NO. TELP/HP | I3: EMAIL | J3: SUB SEKTOR EKRAF UTAMA | K3: TAHUN MULAI BEROPERASI
A4: 1
A5: 2
A6: 3
A7: 4
A8: 5
A9: 6
A10: 7
A11: 8
A12: 9
A13: dst..
I15: KAB/KOTA, APRIL 2023
I16: KEPALA OPD
I20: NAMA
I21: NIP.

Sheet Sheet2
A1: NAMA USAHA | B1: NAMA PEMILIK USAHA | C1: ALAMAT LENGKAP USAHA | D1: KEL/DESA | E1: KECAMATAN | F1: KOTA/KAB | G1: NO. TELP/HP | H1: EMAIL | I1: SUB SEKTOR EKRAF UTAMA | J1: TAHUN MULAI BEROPERASI
A2: BATIK HADIPRIYANTO | B2: SLAMET HADIPRIYANTO | C2: JL. MRUYUNG | D2: SUDAGARAN | E2: BANYUMAS | F2: BANYUMAS | G2: 081542947146 | I2: KRIYA | J2: 1970
A3: BATIK R SOKARAJA | B3: HERU SANTOSO | C3: JL. PESAREAN KEBUTUH | D3: SOKARAJA KULON | E3: SOKARAJA | F3: BANYUMAS | G3: 085799226655 | I3: KRIYA | J3: 1970
A4: ZEE COLLECTION | B4: RIENE MAHARDIANI | C4: JL. CILONGOK KESEGERAN | D4: CILONGOK | E4: CILONGOK | F4: BANYUMAS | G4: 081802666999 | I4: FESYEN | J4: 2018
A5: KAMPING NOPIA MINO | B5: AGUS SILO WITRASNO | C5: JL. JAYA SIRAYU | D5: PEKUNDEN | E5: BANYUMAS | F5: BANYUMAS | G5: 08112600185 | I5: KULINER | J5: 2018
A6: Asap Merapi | B6: Lisyanti | C6: Ngaglik | D6: Samiran | E6: Selo | F6: BOYOLALI | G6: 088216049302 | I6: Kuliner
A7: DTW Sanjaya | B7: Cahyo Yusuf R | C7: Samiran | D7: Samiran | E7: Selo | F7: BOYOLALI | G7: 085786633500 | I7: Arsitektur
A8: Purwanto | B8: Pengelola Kusuma Pool & Resto | C8: Sukorame | D8: Sukorame | E8: Musuk | F8: BOYOLALI | G8: 08562675300 | I8: Arsitektur
A9: OASE ART | B9: Supriyoto | C9: Kragilan | D9: Kragilan | E9: Mojosongo | F9: BOYOLALI | G9: 081390989598 | I9: Arsitektur
A10: UMKM Ilyas Dekorasi | B10: Lasmini | C10: Jeruk | D10: Jeruk | E10: Selo | F10: BOYOLALI | G10: 085640066721 | I10: Desain Interior
A11: Bank Sampah Permata | B11: Abdur Rokhman Isnaini | C11: Madu Mulyo | D11: Pulisen | E11: Boyolali | F11: BOYOLALI | G11: 085702427974 | I11: Desain produk
A12: Shoebar | B12: Bimo Setiawan | C12: Jl Merapi | D12: Pulisen | E12: Boyolali | F12: BOYOLALI | G12: 089646928905 | I12: Desain produk
A13: Bank Sampah | B13: Sukadi | C13: Madumulyo | D13: Pulisen | E13: Boyolali | F13: BOYOLALI | G13: 85600655598 | I13: Desain Produk
A14: Umi Patmiyati | B14: Umi Patmiyati | C14: Banyudono | D14: Banyudono | E14: Banyudono | F14: BOYOLALI | G14: 08574323 2054 | I14: Desain produk
A15: Sha - Sha Collection | B15: Nur Indrati | C15: Jl Perintis Kemerdekaan | D15: Pulisen | E15: Boyolali | F15: BOYOLALI | G15: 081931715969 | I15: Fashion
A16: Amanah | B16: Sriyadi | C16: Pulisen | D16: Pulisen | E16: Boyolali | F16: BOYOLALI | G16: 081329380882 | I16: Fashion
A17: Fashion | B17: Dwi Anna Solichah | C17: Candi | D17: Candi | E17: Ampel | F17: BOYOLALI | G17: 085642311119 | I17: Fashion
A18: Ade Mila Almi Astuti | B18: Ade Mila Almi Astuti | C18: Ringinlarik | D18: Musuk | E18: Musuk | F18: BOYOLALI | G18: 082131768202 | I18: Fashion
A19: Haryati | B19: Haryati | C19: Pulisen | D19: Pulisen | E19: Boyolali | F19: BOYOLALI | G19: 0857 0080 0585 | I19: Fashion
A20: Nila Wibowo Putri Permatasari | B20: Nila Wibowo Putri Permatasari | C20: Sukabumi | D20: Sukabumi | E20: Cepogo | F20: BOYOLALI | G20: 085712334163 | I20: Fashion
A21: MOI | B21: Reifatma Nuraviani | C21: Pulisen | D21: Pulisen | E21: Boyolali | F21: BOYOLALI | G21: 0818 1012 86 | I21: Fashion
A22: UMKM Multimedia Desain Grafis | B22: Lilik Kurniawan | C22: Ngaru-aru | D22: Ngaru-aru | E22: Banyudono | F22: BOYOLALI | G22: 089503800222 | I22: Film
A23: D'Asmo | B23: Denny Sugiharto | C23: Pulisen | D23: Pulisen | E23: Boyolali | F23: BOYOLALI | G23: 081315222769 | I23: Fotografi
A24: Fattah Nurdiansah | B24: Fattah Nurdiansah | C24: Ngaru-aru | D24: Ngaru-aru | E24: Banyudono | F24: BOYOLALI | G24: 0895413786104 | I24: Fotografi
A25: Pande Tembaga | B25: Daryono | C25: Kupoh | D25: Cepogo | E25: Cepogo | F25: BOYOLALI | G25: 085700097698 | I25: Kriya
... A106: Ratna Pertiwi | B106: Ratna Pertiwi | C106: Banaran | D106: Banaran | E106: Boyolali | F106: BOYOLALI | G106: 0815 6776 6043 | I106: Seni Rupa
A107: Sangkanparan Visual Multimedia | B107: Insan Indah Pribadi | C107: Jl. Nusa Indah, Tritih Lor | D107: Tritih Lor | E107: Jeruklegi | F107: CILACAP | G107: 08121563110 / | H107: insanindah@gmail.com | I107: Multimedia, Film, Musik & Seni Pertunjukan
A108: Boss One / Suwanto Guitar | B108: Suwanto | C108: Desa Karangsari, | D108: Karangsari | E108: Adipala | F108: CILACAP | G108: 082138975045 / | I108: Kriya, Seni Rupa
A109: Mustav & Co | B109: Syarifudin | C109: Kawunganten | E109: Kawunganten | F109: CILACAP | G109: +62 895-2773-7311 | H109: mustav.andco@gmail.com | I109: Kriya, Fashion
A110: Pembuat Wayang | B110: Darman | C110: Desa Tritih Lor | D110: Tritih Lor | E110: Jeruklegi | F110: CILACAP | G110: +62 856-4190-4308 | I110: Kriya, Seni rupa
A111: Kincir Bambu Kolam Ikan | B111: Misbah Chalimuzain | C111: Jl. Toba, Mujur Lor | D111: Mujur Lor | E111: Kroya | F111: CILACAP | G111: 085747733840 / 083848951912 | H111: IG : @amanah_kincir_bambu | I111: Kriya
A112: Batik Ecoprint | B112: Supinah | C112: Pasemuan, Adipala | D112: Karanganyar | E112: Adipala | F112: CILACAP | G112: +62 897-6274-561 | I112: Fashion, Kriya
A113: Luxor / Kerajinan Kayu | B113: Mastur Zubaedi | C113: Sumingkir RT 5/3 | D113: Sumingkir | E113: Jeruklegi | F113: CILACAP | I113: Kriya
A114: Mool Leather | B114: Amil Maulana | C114: Panisihan Maos Lor | D114: Panisihan | E114: Maos | F114: CILACAP | G114: 085759250900 | H114: IG : @mool_leather | I114: Kriya, Fashion
A115: Batik Kutawaru | B115: Titing | C115: Jl. Nusajaya Kutawaru | D115: Kutawaru | E115: Cilacap Tengah | F115: CILACAP | G115: 0857-4098-5301 | H115: IG : @batik_mangrove_kutawaru | I115: Fashion, Kriya
A116: Rumah Rajut Alya | B116: Herty | C116: Jl. Raya Menganti Margasari | D116: Margasari | E116: Sidareja | F116: CILACAP | H116: IG : @herty_rajute | I116: Fashion, Kriya
A117: Gallery Kulit Telur | B117: Agus Salim | C117: Panjatan Kawunganten Lor | D117: Panjatan | E117: Kawunganten | F117: CILACAP | G117: 0896-3900-8617 | H117: IG : @lukisan_telur | I117: Kriya, Seni Rupa
A118: Mitra Mandiri Cocofiber | B118: Mamang Top | C118: Jl. Wijaya Kusuma Purwasari | D118: Purwasari | E118: Wanareja | F118: CILACAP | G118: 0852-9290-6356 | H118: IG : @mamang.top | I118: Kriya, Seni RUpa
A119: Batik Maos Rajasamas | B119: Tonik Sudarmaji | C119: Jl. Penatusan Timur Maos Kidul | D119: Maos Kidul | E119: Maos | F119: CILACAP | G119: 0822-2133-3785 | H119: IG : @batik_maos_rajasamas | I119: Produksi Batik
A120: Mikon Craft | B120: Hidayat Saputra | C120: Jl. Bawal Sikampuh Kroya | D120: Sikampuh | E120: Kroya | F120: CILACAP | H120: IG : @mikon_craft | I120: Kerajinan Koran Gulung
...

Sheet Sheet3
A1: NO | B1: KOTA/KAB | C1: JUMLAH | E1: =COUNTIF(C2:C36, "0") -> 2
A2: 1 | B2: BANJARNEGARA | C2: =COUNTIF(Sheet2!F:F, Sheet3!B2) -> 29
A3: 2 | B3: BANYUMAS | C3: =COUNTIF(Sheet2!F:F, Sheet3!B3) -> 4
A4: 3 | B4: BATANG | C4: =COUNTIF(Sheet2!F:F, Sheet3!B4) -> 40
A5: 4 | B5: BLORA | C5: =COUNTIF(Sheet2!F:F, Sheet3!B5) -> 80
A6: 5 | B6: BOYOLALI | C6: =COUNTIF(Sheet2!F:F, Sheet3!B6) -> 101
A7: 6 | B7: BREBES | C7: =COUNTIF(Sheet2!F:F, Sheet3!B7) -> 2
A8: 7 | B8: CILACAP | C8: =COUNTIF(Sheet2!F:F, Sheet3!B8) -> 39
A9: 8 | B9: DEMAK | C9: =COUNTIF(Sheet2!F:F, Sheet3!B9) -> 8
A10: 9 | B10: GROBOGAN | C10: =COUNTIF(Sheet2!F:F, Sheet3!B10) -> 61
A11: 10 | B11: JEPARA | C11: =COUNTIF(Sheet2!F:F, Sheet3!B11) -> 0
A12: 11 | B12: KARANGANYAR | C12: =COUNTIF(Sheet2!F:F, Sheet3!B12) -> 20
A13: 12 | B13: KEBUMEN | C13: =COUNTIF(Sheet2!F:F, Sheet3!B13) -> 13
... A36: 35 | B36: WONOSOBO | C36: =COUNTIF(Sheet2!F:F, Sheet3!B36) -> 0
A37: TOTAL | C37: =SUM(C2:C36) -> 2645
